BEGIN:VCALENDAR
VERSION:2.0
PRODID:-//Föreningen Sveriges Sändareamatörer - ECPv6.15.20//NONSGML v1.0//EN
CALSCALE:GREGORIAN
METHOD:PUBLISH
X-ORIGINAL-URL:https://www.ssa.se
X-WR-CALDESC:Händelser för Föreningen Sveriges Sändareamatörer
REFRESH-INTERVAL;VALUE=DURATION:PT1H
X-Robots-Tag:noindex
X-PUBLISHED-TTL:PT1H
BEGIN:VTIMEZONE
TZID:Europe/Stockholm
BEGIN:DAYLIGHT
TZOFFSETFROM:+0100
TZOFFSETTO:+0200
TZNAME:CEST
DTSTART:20160327T010000
END:DAYLIGHT
BEGIN:STANDARD
TZOFFSETFROM:+0200
TZOFFSETTO:+0100
TZNAME:CET
DTSTART:20161030T010000
END:STANDARD
BEGIN:DAYLIGHT
TZOFFSETFROM:+0100
TZOFFSETTO:+0200
TZNAME:CEST
DTSTART:20170326T010000
END:DAYLIGHT
BEGIN:STANDARD
TZOFFSETFROM:+0200
TZOFFSETTO:+0100
TZNAME:CET
DTSTART:20171029T010000
END:STANDARD
BEGIN:DAYLIGHT
TZOFFSETFROM:+0100
TZOFFSETTO:+0200
TZNAME:CEST
DTSTART:20180325T010000
END:DAYLIGHT
BEGIN:STANDARD
TZOFFSETFROM:+0200
TZOFFSETTO:+0100
TZNAME:CET
DTSTART:20181028T010000
END:STANDARD
BEGIN:DAYLIGHT
TZOFFSETFROM:+0100
TZOFFSETTO:+0200
TZNAME:CEST
DTSTART:20190331T010000
END:DAYLIGHT
BEGIN:STANDARD
TZOFFSETFROM:+0200
TZOFFSETTO:+0100
TZNAME:CET
DTSTART:20191027T010000
END:STANDARD
END:VTIMEZONE
BEGIN:VEVENT
DTSTART;VALUE=DATE:20170705
DTEND;VALUE=DATE:20180101
DTSTAMP:20260424T235433
CREATED:20170705T134523Z
LAST-MODIFIED:20170705T134523Z
UID:26388-1499212800-1514764799@www.ssa.se
SUMMARY:SC40VIC
DESCRIPTION:SC4ØVIC – Fira vår kronprinsessas 40 års-dag.\nI anledning av att kronprinsessan Victoria fyller 40 år den 14 juli har SSA beslutat att föreningens medlemmar kan låna signalen SC4ØVIC. PTS har godkänt evenemanget och kungahuset har välvilligt tillhandahållit ett officiellt foto att användas på QSL-kortet. \nSignalen är tillgänglig för perioden 5 juli – 31 december 2017. \nDu bokar signalen för helt dygn (utc-tid) hos Lars SM6NT på mail sm6nt@tele2.se eller telefon 0321-72327. Du kommer att få bekräftelse/besked om signalen är ledig.  Efter att du lånat signalen beställer du QSL-kort hos Eric SM6JSM på SSA kansli i Karlsborg. Mail: signal@ssa.se. QSL-korten skickas till utgående QSL-service hos SM5DJZ. Något QSL-frimärke på korten behövs ej. \nLogg i form av papperslogg skickas till Föreningen Sveriges Sändareamatörer\, Bastustigen 26\, 546 33  Karlsborg. Använd dock helst datalogg i form av adi-fil som mailas till signal@ssa.se \nLycka till med aktiviteten önskar\nLars SM6NT och Eric SM6JSM
URL:https://www.ssa.se/event/sc40vic/
CATEGORIES:Distrikt 0,Distrikt 1,Distrikt 2,Distrikt 3,Distrikt 4,Distrikt 5,Distrikt 6,Distrikt 7
END:VEVENT
BEGIN:VEVENT
DTSTART;VALUE=DATE:20171212
DTEND;VALUE=DATE:20171213
DTSTAMP:20260424T235433
CREATED:20171212T071831Z
LAST-MODIFIED:20171212T071831Z
UID:28465-1513036800-1513123199@www.ssa.se
SUMMARY:SC40VIC bokad
DESCRIPTION:12/12 körs SC40VIC av Lars SM6NT. QTH Vegby.\nVill Du boka signalen SC40VIC  kontakta bokningsansvarig Lars SM6NT.\nSe vidare notis på ssa.se
URL:https://www.ssa.se/event/sc40vic-bokad-16/
LOCATION:Vegby
CATEGORIES:Event
END:VEVENT
BEGIN:VEVENT
DTSTART;TZID=Europe/Stockholm:20171212T190000
DTEND;TZID=Europe/Stockholm:20171212T220000
DTSTAMP:20260424T235433
CREATED:20170811T090137Z
LAST-MODIFIED:20170811T090137Z
UID:26881-1513105200-1513116000@www.ssa.se
SUMMARY:SK3BG tomtedags
DESCRIPTION:SK3BG 12/12 Säsongavslutning –  Lilla julafton\nKaffe lotteri\, pappersvideo\, och korv med bröd. Årets absolut måste.\nVälkommen!\nStyrelsen
URL:https://www.ssa.se/event/sk3bg-tomtedags/
CATEGORIES:Distrikt 3,Klubbmöte
END:VEVENT
BEGIN:VEVENT
DTSTART;VALUE=DATE:20171213
DTEND;VALUE=DATE:20171214
DTSTAMP:20260424T235433
CREATED:20171008T163732Z
LAST-MODIFIED:20171008T163732Z
UID:27615-1513123200-1513209599@www.ssa.se
SUMMARY:Bulletinen!
DESCRIPTION:SSA-Bulletinen under jul och nyår\nÅrets sista SSA-Bulletin utkommer v 50 den 13/12.\n2018 års första SSA-bulletin utkommer v 1 den3/1 2018.
URL:https://www.ssa.se/event/bulletinen/
LOCATION:SSA-Bulletinens redaktion
CATEGORIES:Distrikt 0,Distrikt 1,Distrikt 2,Distrikt 3,Distrikt 4,Distrikt 5,Distrikt 6,Distrikt 7
END:VEVENT
BEGIN:VEVENT
DTSTART;TZID=Europe/Stockholm:20171213T190000
DTEND;TZID=Europe/Stockholm:20171213T220000
DTSTAMP:20260424T235433
CREATED:20171128T182943Z
LAST-MODIFIED:20171128T182943Z
UID:28296-1513191600-1513202400@www.ssa.se
SUMMARY:SK7DD lussar
DESCRIPTION:SK7DD luciakaffe 13/12\nNordvästra skånes radioamatörer\, SK7DD\, inbjuder medlemmar till luciakaffe onsdagen den 13. december kl 19:00 i Studiefrämjandets lokaler på Järnvägsgatan 41 i Helsingborg.
URL:https://www.ssa.se/event/sk7dd-lussar/
LOCATION:Studiefrämjandet Helsingborg
CATEGORIES:Distrikt 7,Klubbmöte
END:VEVENT
BEGIN:VEVENT
DTSTART;VALUE=DATE:20171216
DTEND;VALUE=DATE:20171217
DTSTAMP:20260424T235433
CREATED:20171216T075606Z
LAST-MODIFIED:20171216T075606Z
UID:28508-1513382400-1513468799@www.ssa.se
SUMMARY:SC40VIC bokad
DESCRIPTION:SC40VIC bokad \n16/12 körs SC40VIC av Erik Berggren SM5APS. QTH Västerås.\nVill Du boka signalen SC40VIC  kontakta bokningsansvarig Lars SM6NT.\nSe vidare notis på ssa.se
URL:https://www.ssa.se/event/sc40vic-bokad-17/
CATEGORIES:Distrikt 0,Distrikt 1,Distrikt 2,Distrikt 3,Distrikt 4,Distrikt 5,Distrikt 6,Distrikt 7,Event
END:VEVENT
BEGIN:VEVENT
DTSTART;TZID=Europe/Stockholm:20171216T083000
DTEND;TZID=Europe/Stockholm:20171217T170000
DTSTAMP:20260424T235433
CREATED:20170916T165140Z
LAST-MODIFIED:20170916T165140Z
UID:27442-1513413000-1513530000@www.ssa.se
SUMMARY:SK5AA certkurs helg 5
DESCRIPTION:SK5AA certkurs okt-dec 2017\nVästerås Radioklubb arrangerar nybörjarkurs för radioamatörer.\nSLUT    16-17 december (helg 5)\nTiderna är 08.30 – 17.00 med lunchuppehåll kl 12-13.\nKursmaterielet består som vanligt av det utbildningspaket som tagits\nfram av SSA Föreningen Sveriges Sändareamatörer.\nDen sista kurshelgen kommer vi att arrangera provtagning för de som så\nönskar.\nKursledare är precis som tidigare år Bosse\, SM5CJW och Donald\, SM5ACQ.\nHör av dig snarast med din definitiva kursanmälan och berätta gärna om\nvår kurs för andra som kan vara intresserade.\nMer info och kontaktuppgifter hittar Du på hemsidan: sk5aa.se\nDonald\, SM5ACQ
URL:https://www.ssa.se/event/sk5aa-certkurs-helg-5/
LOCATION:Klubblokalen Flottiljg 61 Västerås
CATEGORIES:Distrikt 5,Kurs
END:VEVENT
BEGIN:VEVENT
DTSTART;VALUE=DATE:20171224
DTEND;VALUE=DATE:20171225
DTSTAMP:20260424T235433
CREATED:20171212T073151Z
LAST-MODIFIED:20171212T073151Z
UID:28470-1514073600-1514159999@www.ssa.se
SUMMARY:SAQ inställt
DESCRIPTION:Inställd julsändning från Grimeton SAQ-radio\nUnder året har underhållsarbete pågått på delar av långvågsantennen\, vilket\nbl.a. medfört att sommarens SAQ-sändning fick ställas in. Tyvärr måste vi nu\ninformera att även den traditionella julaftonssändningen med SAQ ställs in\ndå arbetet inte kunnat slutföras som planerat. Vilket ibland blir fallet vid\nförvaltandet av en snart hundra år gammal långvågsanläggning.\nVi beklagar verkligen detta och hoppas på er förståelse för situationen samt\nfortsatta stöd för verksamheten. Vi gör allt för att ”vår gamla dam” snart\nkan höras i etern igen!\nCamilla Lugnet\, VD\nStiftelsen Världsarvet Grimeton
URL:https://www.ssa.se/event/saq-installt/
LOCATION:Grimeton Radiostation\, Radiostationen 72\, Grimeton\, 43298\, Sverige
CATEGORIES:Event
END:VEVENT
BEGIN:VEVENT
DTSTART;VALUE=DATE:20171224
DTEND;VALUE=DATE:20171225
DTSTAMP:20260424T235433
CREATED:20171224T094157Z
LAST-MODIFIED:20171224T094157Z
UID:28597-1514073600-1514159999@www.ssa.se
SUMMARY:SC40VIC bokad
DESCRIPTION:SC40VIC bokad\n24/12 körs SC40VIC av Lars SM6NT. QTH Vegby.\nVill Du boka signalen SC40VIC  kontakta bokningsansvarig Lars SM6NT.\nSe vidare notis på ssa.se
URL:https://www.ssa.se/event/sc40vic-bokad-19/
LOCATION:Vegby
CATEGORIES:Distrikt 0,Distrikt 1,Distrikt 2,Distrikt 3,Distrikt 4,Distrikt 5,Distrikt 6,Distrikt 7,Event
END:VEVENT
BEGIN:VEVENT
DTSTART;VALUE=DATE:20171227
DTEND;VALUE=DATE:20171228
DTSTAMP:20260424T235433
CREATED:20171224T093817Z
LAST-MODIFIED:20171224T093817Z
UID:28595-1514332800-1514419199@www.ssa.se
SUMMARY:SC40VIC bokad
DESCRIPTION:SC40VIC bokad\n27/12 körs SC40VIC av Erik Berggren SM5APS. QTH Västerås.\nVill Du boka signalen SC40VIC  kontakta bokningsansvarig Lars SM6NT.\nSe vidare notis på ssa.se
URL:https://www.ssa.se/event/sc40vic-bokad-18/
CATEGORIES:Distrikt 0,Distrikt 1,Distrikt 2,Distrikt 3,Distrikt 4,Distrikt 5,Distrikt 6,Distrikt 7,Event
END:VEVENT
BEGIN:VEVENT
DTSTART;VALUE=DATE:20171230
DTEND;VALUE=DATE:20180101
DTSTAMP:20260424T235433
CREATED:20170824T084410Z
LAST-MODIFIED:20170824T084410Z
UID:26955-1514592000-1514764799@www.ssa.se
SUMMARY:SC40VIC bokad
DESCRIPTION:SC40VIC bokad\n30-31/12 körs SC40VIC  av Stephan SM5YRA.\nVill Du boka signalen SC40VIC  kontakta bokningsansvarig Lars SM6NT.\nSe vidare notis på ssa.se
URL:https://www.ssa.se/event/sc40vic-bokad-6/
LOCATION:Sparreholm
CATEGORIES:Distrikt 5
END:VEVENT
BEGIN:VEVENT
DTSTART;TZID=Europe/Stockholm:20180102T190000
DTEND;TZID=Europe/Stockholm:20180102T220000
DTSTAMP:20260424T235433
CREATED:20170811T090452Z
LAST-MODIFIED:20170811T090452Z
UID:26883-1514919600-1514930400@www.ssa.se
SUMMARY:SK3BG - hårda paket?
DESCRIPTION:SK3BG 02/1-18 Mellandagsmeeting\nKom och fika med oss och visa dina hårda julklappar.\nVälkommen!\nStyrelsen
URL:https://www.ssa.se/event/sk3bg-harda-paket/
CATEGORIES:Distrikt 3,Klubbmöte
END:VEVENT
BEGIN:VEVENT
DTSTART;VALUE=DATE:20180103
DTEND;VALUE=DATE:20180104
DTSTAMP:20260424T235433
CREATED:20171008T163914Z
LAST-MODIFIED:20171008T163914Z
UID:27617-1514937600-1515023999@www.ssa.se
SUMMARY:Bulletinen!
DESCRIPTION:SSA-Bulletinen under jul och nyår \n2018 års första SSA-bulletin utkommer v 1 den 3/1 2018.
URL:https://www.ssa.se/event/bulletinen-2/
LOCATION:SSA-Bulletinens redaktion
CATEGORIES:Distrikt 0,Distrikt 1,Distrikt 2,Distrikt 3,Distrikt 4,Distrikt 5,Distrikt 6,Distrikt 7
END:VEVENT
BEGIN:VEVENT
DTSTART;TZID=Europe/Stockholm:20180106T090000
DTEND;TZID=Europe/Stockholm:20180106T090000
DTSTAMP:20260424T235433
CREATED:20180102T174452Z
LAST-MODIFIED:20180102T174452Z
UID:28672-1515229200-1515229200@www.ssa.se
SUMMARY:HQ-nätet
DESCRIPTION:Dags för årets första HQ-nät på lördag.\nSK0HQ blir callet.\nVi hörs!
URL:https://www.ssa.se/event/hq-natet-30/
END:VEVENT
BEGIN:VEVENT
DTSTART;TZID=Europe/Stockholm:20180114T090000
DTEND;TZID=Europe/Stockholm:20180114T100000
DTSTAMP:20260424T235433
CREATED:20180101T135515Z
LAST-MODIFIED:20180101T135515Z
UID:28650-1515920400-1515924000@www.ssa.se
SUMMARY:SK6SSA kv-bulletinen
DESCRIPTION:SK6SSA ändrad tid för kv-bulletinen 14/1 \nTillfälligt ändrad sändningstid för kortvågsbulletinen SK6SSA på 3705 KHz med ordinarie sändningstid kl 09.30 söndagar ändrar tillfälligt sin sändningstid med start kl 09.00 svenskt tid SÖNDAG DEN 14 JANUARI. Gäller alltså enbart söndag 15 januari med start kl 09.00. Söndagar därefter som vanligt 09.30.\nLars SM6NT op av SK6SSA
URL:https://www.ssa.se/event/sk6ssa-kv-bulletinen/
LOCATION:Vedby
CATEGORIES:Distrikt 0,Distrikt 1,Distrikt 2,Distrikt 3,Distrikt 4,Distrikt 5,Distrikt 6,Distrikt 7,Hela Sverige!
END:VEVENT
BEGIN:VEVENT
DTSTART;TZID=Europe/Stockholm:20180115T190000
DTEND;TZID=Europe/Stockholm:20180115T220000
DTSTAMP:20260424T235433
CREATED:20171106T105250Z
LAST-MODIFIED:20171106T105250Z
UID:28084-1516042800-1516053600@www.ssa.se
SUMMARY:SK0MT certkurs
DESCRIPTION:SK0MT startar certkurs 15/1 2018 \nTSA \, TÄBY sändaramatörer startar kurs för blivande radioamatör måndagen den 15 januari 2018 kl 19:00 i Byängskolan i TÄBY. Kursen kommer gå på måndagar under våren med uppehåll för loven. Tentamen i maj-juni. Kostnad 850 kr för kursen inklusive kurslitteratur\, tenta och medlemskap i TSA.\nAnmälan skickas till SM0ZEU Ann\, ann.lundell@telia.com
URL:https://www.ssa.se/event/sk0mt-certkurs/
LOCATION:Byängsskolan Täby
CATEGORIES:Distrikt 0,Kurs
END:VEVENT
BEGIN:VEVENT
DTSTART;TZID=Europe/Stockholm:20180116T190000
DTEND;TZID=Europe/Stockholm:20180116T220000
DTSTAMP:20260424T235433
CREATED:20171227T090710Z
LAST-MODIFIED:20171227T090710Z
UID:28615-1516129200-1516140000@www.ssa.se
SUMMARY:SK3BG startar vt
DESCRIPTION:SK3BG Säsongstart 16/1\nKom och fika med likasinnade\, kolla tidningar och delge dina erfarenheter.Välkommen!\nKlubb- och medlemsvård sektionen
URL:https://www.ssa.se/event/sk3bg-startar-vt/
LOCATION:SK3BG klubblokalen
CATEGORIES:Distrikt 3,Klubbmöte
END:VEVENT
BEGIN:VEVENT
DTSTART;TZID=Europe/Stockholm:20180117T190000
DTEND;TZID=Europe/Stockholm:20180117T220000
DTSTAMP:20260424T235433
CREATED:20180105T202735Z
LAST-MODIFIED:20180105T202735Z
UID:28714-1516215600-1516226400@www.ssa.se
SUMMARY:SK7DD "3\,14-möte"
DESCRIPTION:Nordvästra Skånes Radioamatörer\, SK7DD\, inbjuder medlemmar till medlemsmöte med rubriken ”Kom igång med raspberry pi” onsdagen den 17:e januari kl 19:00 i studiefrämjandets lokaler på Järnvägsgatan 41 i Helsingborg.\nVälkomna
URL:https://www.ssa.se/event/sk7dd-314-mote/
LOCATION:Studiefrämjandet Helsingborg
CATEGORIES:Distrikt 7,Klubbmöte
END:VEVENT
BEGIN:VEVENT
DTSTART;TZID=Europe/Stockholm:20180120T090000
DTEND;TZID=Europe/Stockholm:20180120T090000
DTSTAMP:20260424T235433
CREATED:20180118T094727Z
LAST-MODIFIED:20180118T094727Z
UID:28819-1516438800-1516438800@www.ssa.se
SUMMARY:HQ-nätet
DESCRIPTION:Vi hörs på lördag på 3705 kHz.\nDenna gång kör jag från SK6HQ.\n73 och väl mött
URL:https://www.ssa.se/event/hq-natet-31/
END:VEVENT
BEGIN:VEVENT
DTSTART;TZID=Europe/Stockholm:20180120T200000
DTEND;TZID=Europe/Stockholm:20180120T210000
DTSTAMP:20260424T235433
CREATED:20181210T184733Z
LAST-MODIFIED:20181210T184733Z
UID:32675-1516478400-1516482000@www.ssa.se
SUMMARY:Radio Black Peter
DESCRIPTION:Radio Black Peter\, Sveriges första piratradio! \nNu har filmen om Radio Black Peter som det arbetats på sedan 2015 premiär! \nhttp://bautafilm.se/?produktion=radio-black-peter-2018 \nhttps://sverigesradio.se/sida/artikel.aspx?programid=109&artikel=7101610 \nhttps://webb-tv.nu/radio-black-peter-svt-play/ \nSänds den 20/12\, se texterna ovan \nTack till Eric SM1TDE
URL:https://www.ssa.se/event/32675/
CATEGORIES:Filmtajm
END:VEVENT
BEGIN:VEVENT
DTSTART;TZID=Europe/Stockholm:20180124T190000
DTEND;TZID=Europe/Stockholm:20180124T220000
DTSTAMP:20260424T235433
CREATED:20180117T111426Z
LAST-MODIFIED:20180117T111426Z
UID:28814-1516820400-1516831200@www.ssa.se
SUMMARY:SK0QO sol-möte
DESCRIPTION:SK0QO Solförmörkelse\, onsdagen den 24 januari i Jordbro \nGunnar\, SM0BYO\, visar bilder från sin USA-resa till solförmörkelsen ”Great American Eclipse” i augusti 2017. Han berättar också om rundresan i västra USA. Gunnar är amatörastronom och har en hel del att berätta i ämnet. Mötet startar kl 19.30 och fika finns från kl 19.00.\nAlla välkomna! OBS platsen är Kvarnbäcksskolan\, Mostensvägen 4\, Jordbro.
URL:https://www.ssa.se/event/sk0qo-sol-mote/
LOCATION:Kvarnbäcksskolan Jordbro
CATEGORIES:Distrikt 0,Föredrag,Klubbmöte
END:VEVENT
BEGIN:VEVENT
DTSTART;TZID=Europe/Stockholm:20180125T183000
DTEND;TZID=Europe/Stockholm:20180125T220000
DTSTAMP:20260424T235433
CREATED:20180110T133932Z
LAST-MODIFIED:20180110T133932Z
UID:28772-1516905000-1516917600@www.ssa.se
SUMMARY:SL0ZS föredrag om IT mm
DESCRIPTION:SL0ZS föredrag om IT-hjälp i Nepal 25/1 \nTorsdag den 25 januari\, med start klockan 1830\, berättar vår medlem Morgan Holmberg\, utsänd av MSB och FN\, om hur han hjälpte till med IT- och telekommunikation efter jordbävningen i Nepal 2015. Anmälan är obligatorisk och görs till e-post anmalan@grimsta.fro.se. Plats Grimsta. \n 
URL:https://www.ssa.se/event/sl0zs-foredrag-om-it-mm/
CATEGORIES:Distrikt 0,Föredrag
END:VEVENT
BEGIN:VEVENT
DTSTART;VALUE=DATE:20180127
DTEND;VALUE=DATE:20180129
DTSTAMP:20260424T235433
CREATED:20180123T190740Z
LAST-MODIFIED:20180123T190740Z
UID:28887-1517011200-1517183999@www.ssa.se
SUMMARY:SK7RN certkurs
DESCRIPTION:SK7RN Kurs för amatörradiocertifikat på Öland \nAlla intresserade välkomna. Känner ni någon person som kan vara intresserad av kursen? Var vänlig informera vidare\, så att ingen intresserad missar chansen.\nAnmäl snarast möjligt.\nFörsta samling lördag/söndag den 27 och 28 januari. Platsen är Scoutstugan i Färjestaden. Övriga planerade datum är den 10 och 12 februari samt 24 och 25 februari.  Kursledare är Conny SM7GMD tel 0736 872 510\, e-post: radiokurs_2018@sk7rn.se.  Mer info kommer\, bland annat om beställning av kursmateriel\, tider och förtäring.
URL:https://www.ssa.se/event/sk7rn-certkurs-2/
LOCATION:Scoutstugan Färjestaden
CATEGORIES:Distrikt 7,Kurs
END:VEVENT
BEGIN:VEVENT
DTSTART;VALUE=DATE:20180127
DTEND;VALUE=DATE:20180219
DTSTAMP:20260424T235433
CREATED:20180108T155741Z
LAST-MODIFIED:20180108T155741Z
UID:28741-1517011200-1518998399@www.ssa.se
SUMMARY:SK7RN certkurs
DESCRIPTION:SK7RN Kurs för amatörradiocertifikat på Öland\nAlla intresserade välkomna. Känner ni någon person som kan vara intresserad av kursen? Var vänlig informera vidare\, så att ingen intresserad missar chansen.\nAnmäl snarast möjligt.\nFörsta samling lördag/söndag den 27 och 28 januari. Platsen är Scoutstugan i Färjestaden. Övriga planerade datum är den 10 och 12 februari samt 24 och 25 februari.  Kursledare är Conny SM7GMD tel 0736 872 510\, e-post: radiokurs_2018@sk7rn.se.  Mer info kommer\, bland annat om beställning av kursmateriel\, tider och förtäring.
URL:https://www.ssa.se/event/sk7rn-certkurs/
LOCATION:Scoutstugan Färjestaden
CATEGORIES:Distrikt 7,Kurs
END:VEVENT
BEGIN:VEVENT
DTSTART;TZID=Europe/Stockholm:20180130T190000
DTEND;TZID=Europe/Stockholm:20180130T220000
DTSTAMP:20260424T235433
CREATED:20180121T205141Z
LAST-MODIFIED:20180121T205141Z
UID:28852-1517338800-1517349600@www.ssa.se
SUMMARY:SK3BG möte
DESCRIPTION:SK3BG klubbmöte 30/1\nTis 30 jan Hands-on D-Star\, DMR\, Pi-Star\nLennart SM3EFS ger hands-on för digitalmod. Ta med Din radio så uppdaterar vi den.\nVälkommen! VHF/UHF sektionen
URL:https://www.ssa.se/event/sk3bg-mote/
LOCATION:SK3BG klubblokalen
CATEGORIES:Distrikt 3,Klubbmöte
END:VEVENT
BEGIN:VEVENT
DTSTART;TZID=Europe/Stockholm:20180203T090000
DTEND;TZID=Europe/Stockholm:20180203T110000
DTSTAMP:20260424T235433
CREATED:20180123T191307Z
LAST-MODIFIED:20180123T191307Z
UID:28890-1517648400-1517655600@www.ssa.se
SUMMARY:AM-test
DESCRIPTION:AM-test 3/2 \nLördag den 3 februari\, under tiden 0900 – 1100 lokal tid\, hålls AM-testens vinterdel inom frekvensområdet 3600 – 3750 kHz. Högsta tillåtna uteffekt är 100W\, och man kör i två klasser\, 1 är fast station och 2 är portabel station. Mer info finns på webbsidan http://sm5b.se/am-test-regler-2/ .
URL:https://www.ssa.se/event/am-test/
LOCATION:Hela Sverige
CATEGORIES:Contest,Hela Sverige!
END:VEVENT
BEGIN:VEVENT
DTSTART;TZID=Europe/Stockholm:20180206T190000
DTEND;TZID=Europe/Stockholm:20180206T220000
DTSTAMP:20260424T235433
CREATED:20180129T084818Z
LAST-MODIFIED:20180129T084818Z
UID:28918-1517943600-1517954400@www.ssa.se
SUMMARY:SK3BG träffkväll
DESCRIPTION:SK3BG träffkväll \nTis  6 feb Träffkväll\nKom och fika med likasinnade\, kolla tidningar och delge dina erfarenheter.\nVälkommen!\nKlubb- och medlemsvårdsektionen
URL:https://www.ssa.se/event/sk3bg-traffkvall-9/
CATEGORIES:Distrikt 3,Klubbmöte
END:VEVENT
BEGIN:VEVENT
DTSTART;TZID=Europe/Stockholm:20180207T080000
DTEND;TZID=Europe/Stockholm:20180207T170000
DTSTAMP:20260424T235433
CREATED:20180207T144126Z
LAST-MODIFIED:20180207T144126Z
UID:29022-1517990400-1518022800@www.ssa.se
SUMMARY:SM0-möte 25/3
DESCRIPTION:Distriktsmöte 25/3 \nPassa på och reservera söndagen den 25 mars i Din kalender. Då arrangerar vi distriktsmöte i distrikt 0. Mer information kommer på denna plats och i QTC. Verksamhetsberättelsen for 2017 finns på DL0-sidan.  73 de SM0ZEU DL0 och SM0WAV vDL0.
URL:https://www.ssa.se/event/sm0-mote-25-3/
CATEGORIES:Distrikt 0,Distriktsmöte
END:VEVENT
BEGIN:VEVENT
DTSTART;TZID=Europe/Stockholm:20180207T190000
DTEND;TZID=Europe/Stockholm:20180207T220000
DTSTAMP:20260424T235433
CREATED:20180130T181551Z
LAST-MODIFIED:20180130T181551Z
UID:28941-1518030000-1518040800@www.ssa.se
SUMMARY:SK3GK möte 7/2
DESCRIPTION:Gävle Kortvågsamatörer\, SK3GK\, har månadsmöte onsdagen den 7 febr. klockan 19.00  hos ABF i Gävle.\nVi utlyser en Berättar- diskussions- och inspirationskväll.\nVad kan vi göra för att vidareutveckla vår förening ?  Hur kan vi gå vidare  ?  Vad kan vi göra för att öka aktiviteten på våra fina repeatrar ?\nHar DU något att visa upp ? Tag med det !     Har du något att berätta om  ?  Gör det!\nStyrelsen\ngm SM3CLA  Programmakare
URL:https://www.ssa.se/event/sk3gk-mote-7-2/
LOCATION:ABF Gävle\, Brunnsgatan 56
CATEGORIES:Distrikt 3,Klubbmöte
END:VEVENT
BEGIN:VEVENT
DTSTART;TZID=Europe/Stockholm:20180207T190000
DTEND;TZID=Europe/Stockholm:20180207T220000
DTSTAMP:20260424T235433
CREATED:20180131T141244Z
LAST-MODIFIED:20180131T141244Z
UID:28944-1518030000-1518040800@www.ssa.se
SUMMARY:SK0QO teknik med Tilman
DESCRIPTION:SK0QO Modern amatörradioteknik med Tilman. 7 febr i Jordbro\nVi får besök av Tilman SM0JZT som tittar in i spåkulan. ”Modern\namatörradioteknik i fram- och nutid”.\nSaker som vi reflekterar kring\, Hur kan vi använda moderna SDR-radios på\nett effektivt sätt? Vi tittar på några nya SDR-radio. IOT ”Internet Of\nThings” inkluderar SDR-radio på distans. Dax att köra igång!\nMötet börjar kl 19.30 och fika finns från kl 19.00. OBS platsen är\nKvarnbäcksskolan\, Mostensvägen 4\, Jordbro.\nVägbeskrivning finns på www.sk0qo.se\nAlla Välkomna!
URL:https://www.ssa.se/event/sk0qo-teknik-med-tilman/
LOCATION:Kvarnbäcksskolan Jordbro
CATEGORIES:Distrikt 0,Föredrag
END:VEVENT
END:VCALENDAR