BEGIN:VCALENDAR
VERSION:2.0
PRODID:-//Föreningen Sveriges Sändareamatörer - ECPv6.15.20//NONSGML v1.0//EN
CALSCALE:GREGORIAN
METHOD:PUBLISH
X-WR-CALNAME:Föreningen Sveriges Sändareamatörer
X-ORIGINAL-URL:https://www.ssa.se
X-WR-CALDESC:Händelser för Föreningen Sveriges Sändareamatörer
REFRESH-INTERVAL;VALUE=DURATION:PT1H
X-Robots-Tag:noindex
X-PUBLISHED-TTL:PT1H
BEGIN:VTIMEZONE
TZID:Europe/Stockholm
BEGIN:DAYLIGHT
TZOFFSETFROM:+0100
TZOFFSETTO:+0200
TZNAME:CEST
DTSTART:20250330T010000
END:DAYLIGHT
BEGIN:STANDARD
TZOFFSETFROM:+0200
TZOFFSETTO:+0100
TZNAME:CET
DTSTART:20251026T010000
END:STANDARD
BEGIN:DAYLIGHT
TZOFFSETFROM:+0100
TZOFFSETTO:+0200
TZNAME:CEST
DTSTART:20260329T010000
END:DAYLIGHT
BEGIN:STANDARD
TZOFFSETFROM:+0200
TZOFFSETTO:+0100
TZNAME:CET
DTSTART:20261025T010000
END:STANDARD
BEGIN:DAYLIGHT
TZOFFSETFROM:+0100
TZOFFSETTO:+0200
TZNAME:CEST
DTSTART:20270328T010000
END:DAYLIGHT
BEGIN:STANDARD
TZOFFSETFROM:+0200
TZOFFSETTO:+0100
TZNAME:CET
DTSTART:20271031T010000
END:STANDARD
END:VTIMEZONE
BEGIN:VEVENT
DTSTART;TZID=Europe/Stockholm:20260418T103000
DTEND;TZID=Europe/Stockholm:20260419T170000
DTSTAMP:20260419T155343
CREATED:20260311T195440Z
LAST-MODIFIED:20260311T195501Z
UID:59502-1776508200-1776618000@www.ssa.se
SUMMARY:SAQ\, grundkurs.
DESCRIPTION:Inbjudan till SAQ grundkurs på Grimetons radiostation.\nUnder våren anordnar föreningen Alexander en SAQ grundkurs på Grimetons radiostation för alla intresserade.\nPå kursen går vi tillsammans igenom Alexandersonalternatorns grundläggande funktioner.\nDu får också lära dig hur sändaren startas\, vilket vi sedan gör tillsammans.\nIngen förkunskap är nödvändig men ett visst intresse för el och teknik är en fördel.\nAllt kursmaterial tillhandahålls digitalt\, för användning under kursen samt för vidare fördjupning efter kursen.\nKursen hålls över en helg på Grimetons Radiostation\nLördag / Söndag 18-19 april med start kl. 10:30.\nDu väljer själv vilken grupp som passar dig bäst.\nAnmäl dig\, med önskan om vilken grupp\, till INFO@ALEXANDER.N.SE senast den 20 mars.\nMax antal per grupp är 8 personer. Först till kvarn gäller.\nKursen hålls på svenska av Fredrik Wiklund och Robert Petersson och är avgiftsfri för Alexanders medlemmar. \nAlexander Grimeton Veteranradios Vänner.
URL:https://www.ssa.se/event/59502/
LOCATION:Grimeton SAQ
CATEGORIES:Grimeton,Kurs,SAQ
END:VEVENT
END:VCALENDAR